Package: IFAA Version: 1.9.0 Command: /home/biocbuild/bbs-3.21-bioc/R/bin/R CMD INSTALL IFAA StartedAt: 2025-02-19 15:31:42 -0500 (Wed, 19 Feb 2025) EndedAt: 2025-02-19 15:32:08 -0500 (Wed, 19 Feb 2025) EllapsedTime: 26.2 seconds RetCode: 0 Status: OK