Package: IFAA Version: 1.9.0 Command: /home/biocbuild/bbs-3.21-bioc/R/bin/R CMD check --install=check:IFAA.install-out.txt --library=/home/biocbuild/bbs-3.21-bioc/R/site-library --timings IFAA_1.9.0.tar.gz StartedAt: 2025-02-19 23:12:40 -0500 (Wed, 19 Feb 2025) EndedAt: 2025-02-19 23:22:05 -0500 (Wed, 19 Feb 2025) EllapsedTime: 564.8 seconds RetCode: 0 Status: OK CheckDir: IFAA.Rcheck Warnings: 0