Package: IFAA Version: 1.9.0 Command: /Library/Frameworks/R.framework/Resources/bin/R CMD check --install=check:IFAA.install-out.txt --library=/Library/Frameworks/R.framework/Resources/library --no-vignettes --timings IFAA_1.9.0.tar.gz StartedAt: 2025-02-19 19:47:16 -0500 (Wed, 19 Feb 2025) EndedAt: 2025-02-19 19:50:10 -0500 (Wed, 19 Feb 2025) EllapsedTime: 173.1 seconds RetCode: 0 Status: OK CheckDir: IFAA.Rcheck Warnings: 0