Package: IFAA Version: 1.9.0 Command: /Library/Frameworks/R.framework/Resources/bin/R CMD build --keep-empty-dirs --no-resave-data IFAA StartedAt: 2025-02-19 16:41:05 -0500 (Wed, 19 Feb 2025) EndedAt: 2025-02-19 16:41:51 -0500 (Wed, 19 Feb 2025) EllapsedTime: 45.5 seconds RetCode: 0 Status: OK PackageFile: IFAA_1.9.0.tar.gz PackageFileSize: 335.1 KiB