Package: HybridMTest Version: 1.51.0 Command: /Library/Frameworks/R.framework/Resources/bin/R CMD INSTALL HybridMTest StartedAt: 2025-02-20 15:30:24 -0500 (Thu, 20 Feb 2025) EndedAt: 2025-02-20 15:30:34 -0500 (Thu, 20 Feb 2025) EllapsedTime: 9.6 seconds RetCode: 0 Status: OK