Package: HybridMTest Version: 1.51.0 Command: /Library/Frameworks/R.framework/Resources/bin/R CMD check --install=check:HybridMTest.install-out.txt --library=/Library/Frameworks/R.framework/Resources/library --no-vignettes --timings HybridMTest_1.51.0.tar.gz StartedAt: 2025-02-20 21:03:13 -0500 (Thu, 20 Feb 2025) EndedAt: 2025-02-20 21:03:56 -0500 (Thu, 20 Feb 2025) EllapsedTime: 42.7 seconds RetCode: 0 Status: OK CheckDir: HybridMTest.Rcheck Warnings: 0