Package: HybridExpress Version: 1.3.0 Command: E:\biocbuild\bbs-3.21-bioc\R\bin\R.exe CMD INSTALL HybridExpress StartedAt: 2025-02-19 16:03:17 -0500 (Wed, 19 Feb 2025) EndedAt: 2025-02-19 16:03:57 -0500 (Wed, 19 Feb 2025) EllapsedTime: 40.0 seconds RetCode: 0 Status: OK