Package: HybridExpress Version: 1.3.0 Command: /home/biocbuild/R/R/bin/R CMD INSTALL HybridExpress StartedAt: 2025-01-29 20:01:52 -0000 (Wed, 29 Jan 2025) EndedAt: 2025-01-29 20:02:26 -0000 (Wed, 29 Jan 2025) EllapsedTime: 33.9 seconds RetCode: 0 Status: OK