Package: HuBMAPR Version: 1.1.8 Command: /home/biocbuild/bbs-3.21-bioc/R/bin/R CMD check --install=check:HuBMAPR.install-out.txt --library=/home/biocbuild/bbs-3.21-bioc/R/site-library --timings HuBMAPR_1.1.8.tar.gz StartedAt: 2025-02-19 23:09:22 -0500 (Wed, 19 Feb 2025) EndedAt: 2025-02-19 23:10:52 -0500 (Wed, 19 Feb 2025) EllapsedTime: 90.2 seconds RetCode: 0 Status: OK CheckDir: HuBMAPR.Rcheck Warnings: 0