Package: HuBMAPR Version: 1.1.8 Command: rm -rf HuBMAPR.buildbin-libdir && mkdir HuBMAPR.buildbin-libdir && /Users/biocbuild/BBS/utils/build-universal.sh HuBMAPR_1.1.8.tar.gz /Library/Frameworks/R.framework/Resources/bin/R HuBMAPR.buildbin-libdir StartedAt: 2025-02-20 00:36:45 -0500 (Thu, 20 Feb 2025) EndedAt: 2025-02-20 00:36:53 -0500 (Thu, 20 Feb 2025) EllapsedTime: 8.2 seconds RetCode: 0 Status: OK PackageFile: HuBMAPR_1.1.8.tgz PackageFileSize: 1.411 MiB