Package: HuBMAPR Version: 1.1.7 Command: /home/biocbuild/R/R/bin/R CMD check --install=check:HuBMAPR.install-out.txt --library=/home/biocbuild/R/R/site-library --no-vignettes --timings HuBMAPR_1.1.7.tar.gz StartedAt: 2025-01-28 11:33:33 -0000 (Tue, 28 Jan 2025) EndedAt: 2025-01-28 11:36:24 -0000 (Tue, 28 Jan 2025) EllapsedTime: 171.2 seconds RetCode: 0 Status: OK CheckDir: HuBMAPR.Rcheck Warnings: 0