Package: HuBMAPR Version: 1.1.8 Maintainer: Christine Hou MaintainerEmail: chris2018hou at gmail.com git_url: https://git.bioconductor.org/packages/HuBMAPR git_branch: devel git_last_commit: 9f529c2 git_last_commit_date: 2025-02-12 18:07:55 -0500 (Wed, 12 Feb 2025)