Package: HilbertVisGUI Version: 1.65.0 Command: /home/biocbuild/bbs-3.21-bioc/R/bin/R CMD INSTALL HilbertVisGUI StartedAt: 2025-02-19 15:03:56 -0500 (Wed, 19 Feb 2025) EndedAt: 2025-02-19 15:04:32 -0500 (Wed, 19 Feb 2025) EllapsedTime: 36.4 seconds RetCode: 0 Status: OK