Package: HilbertVis Version: 1.65.0 Command: E:\biocbuild\bbs-3.21-bioc\R\bin\R.exe CMD INSTALL HilbertVis StartedAt: 2025-02-18 15:20:47 -0500 (Tue, 18 Feb 2025) EndedAt: 2025-02-18 15:21:00 -0500 (Tue, 18 Feb 2025) EllapsedTime: 12.8 seconds RetCode: 0 Status: OK