Package: HilbertVis Version: 1.65.0 Command: /Library/Frameworks/R.framework/Resources/bin/R CMD check --install=check:HilbertVis.install-out.txt --library=/Library/Frameworks/R.framework/Resources/library --no-vignettes --timings HilbertVis_1.65.0.tar.gz StartedAt: 2025-02-18 19:43:40 -0500 (Tue, 18 Feb 2025) EndedAt: 2025-02-18 19:43:55 -0500 (Tue, 18 Feb 2025) EllapsedTime: 15.2 seconds RetCode: 0 Status: WARNINGS CheckDir: HilbertVis.Rcheck Warnings: 1