Package: HilbertCurve Version: 2.1.0 Command: /home/biocbuild/bbs-3.21-bioc/R/bin/R CMD check --install=check:HilbertCurve.install-out.txt --library=/home/biocbuild/bbs-3.21-bioc/R/site-library --timings HilbertCurve_2.1.0.tar.gz StartedAt: 2025-02-20 22:44:58 -0500 (Thu, 20 Feb 2025) EndedAt: 2025-02-20 22:46:54 -0500 (Thu, 20 Feb 2025) EllapsedTime: 115.2 seconds RetCode: 0 Status: OK CheckDir: HilbertCurve.Rcheck Warnings: 0