Package: HilbertCurve Version: 2.1.0 Command: /home/biocbuild/bbs-3.21-bioc/R/bin/R CMD build --keep-empty-dirs --no-resave-data HilbertCurve StartedAt: 2025-02-20 17:47:43 -0500 (Thu, 20 Feb 2025) EndedAt: 2025-02-20 17:48:07 -0500 (Thu, 20 Feb 2025) EllapsedTime: 24.0 seconds RetCode: 0 Status: OK PackageFile: HilbertCurve_2.1.0.tar.gz PackageFileSize: 407.7 KiB