Package: HilbertCurve Version: 2.1.0 Command: rm -rf HilbertCurve.buildbin-libdir && mkdir HilbertCurve.buildbin-libdir && /Users/biocbuild/BBS/utils/build-universal.sh HilbertCurve_2.1.0.tar.gz /Library/Frameworks/R.framework/Resources/bin/R HilbertCurve.buildbin-libdir StartedAt: 2025-02-21 00:35:07 -0500 (Fri, 21 Feb 2025) EndedAt: 2025-02-21 00:35:37 -0500 (Fri, 21 Feb 2025) EllapsedTime: 30.1 seconds RetCode: 0 Status: OK PackageFile: HilbertCurve_2.1.0.tgz PackageFileSize: 750.4 KiB