Package: HilbertCurve Version: 2.1.0 Command: /Library/Frameworks/R.framework/Resources/bin/R CMD check --install=check:HilbertCurve.install-out.txt --library=/Library/Frameworks/R.framework/Resources/library --no-vignettes --timings HilbertCurve_2.1.0.tar.gz StartedAt: 2025-02-20 19:41:51 -0500 (Thu, 20 Feb 2025) EndedAt: 2025-02-20 19:42:36 -0500 (Thu, 20 Feb 2025) EllapsedTime: 45.5 seconds RetCode: 0 Status: OK CheckDir: HilbertCurve.Rcheck Warnings: 0