Package: HicAggR Version: 1.3.0 Command: chmod a+r HicAggR -R && E:\biocbuild\bbs-3.21-bioc\R\bin\R.exe CMD build --keep-empty-dirs --no-resave-data HicAggR StartedAt: 2025-02-20 19:16:52 -0500 (Thu, 20 Feb 2025) EndedAt: 2025-02-20 19:22:56 -0500 (Thu, 20 Feb 2025) EllapsedTime: 363.5 seconds RetCode: 0 Status: OK PackageFile: HicAggR_1.3.0.tar.gz PackageFileSize: 3.009 MiB