Package: HicAggR Version: 1.3.0 Command: /Library/Frameworks/R.framework/Resources/bin/R CMD build --keep-empty-dirs --no-resave-data HicAggR StartedAt: 2025-02-20 16:58:50 -0500 (Thu, 20 Feb 2025) EndedAt: 2025-02-20 17:04:03 -0500 (Thu, 20 Feb 2025) EllapsedTime: 313.2 seconds RetCode: 0 Status: OK PackageFile: HicAggR_1.3.0.tar.gz PackageFileSize: 3.331 MiB