Package: HicAggR Version: 1.3.0 Command: rm -rf HicAggR.buildbin-libdir && mkdir HicAggR.buildbin-libdir && /Users/biocbuild/BBS/utils/build-universal.sh HicAggR_1.3.0.tar.gz /Library/Frameworks/R.framework/Resources/bin/R HicAggR.buildbin-libdir StartedAt: 2025-02-19 22:24:58 -0500 (Wed, 19 Feb 2025) EndedAt: 2025-02-19 22:25:10 -0500 (Wed, 19 Feb 2025) EllapsedTime: 12.3 seconds RetCode: 0 Status: OK PackageFile: HicAggR_1.3.0.tgz PackageFileSize: 3.242 MiB