Package: HiTC Version: 1.51.0 Command: E:\biocbuild\bbs-3.21-bioc\R\bin\R.exe CMD INSTALL HiTC StartedAt: 2025-02-20 16:23:37 -0500 (Thu, 20 Feb 2025) EndedAt: 2025-02-20 16:24:44 -0500 (Thu, 20 Feb 2025) EllapsedTime: 66.7 seconds RetCode: 0 Status: OK