Package: HiTC Version: 1.51.0 Command: E:\biocbuild\bbs-3.21-bioc\R\bin\R.exe CMD check --no-multiarch --install=check:HiTC.install-out.txt --library=E:\biocbuild\bbs-3.21-bioc\R\library --no-vignettes --timings HiTC_1.51.0.tar.gz StartedAt: 2025-02-21 02:16:08 -0500 (Fri, 21 Feb 2025) EndedAt: 2025-02-21 02:21:11 -0500 (Fri, 21 Feb 2025) EllapsedTime: 303.1 seconds RetCode: 0 Status: WARNINGS CheckDir: HiTC.Rcheck Warnings: 1