Package: HiTC Version: 1.51.0 Command: rm -rf HiTC.buildbin-libdir && mkdir HiTC.buildbin-libdir && E:\biocbuild\bbs-3.21-bioc\R\bin\R.exe CMD INSTALL --build --library=HiTC.buildbin-libdir HiTC_1.51.0.tar.gz StartedAt: 2025-02-20 07:58:14 -0500 (Thu, 20 Feb 2025) EndedAt: 2025-02-20 07:59:25 -0500 (Thu, 20 Feb 2025) EllapsedTime: 70.9 seconds RetCode: 0 Status: OK PackageFile: HiTC_1.51.0.zip PackageFileSize: 3.56 MiB