Package: HiLDA Version: 1.21.0 Command: E:\biocbuild\bbs-3.21-bioc\R\bin\R.exe CMD INSTALL HiLDA StartedAt: 2025-02-19 16:10:03 -0500 (Wed, 19 Feb 2025) EndedAt: 2025-02-19 16:10:32 -0500 (Wed, 19 Feb 2025) EllapsedTime: 29.6 seconds RetCode: 0 Status: OK