Package: HiLDA Version: 1.21.0 Command: rm -rf HiLDA.buildbin-libdir && mkdir HiLDA.buildbin-libdir && E:\biocbuild\bbs-3.21-bioc\R\bin\R.exe CMD INSTALL --build --library=HiLDA.buildbin-libdir HiLDA_1.21.0.tar.gz StartedAt: 2025-02-20 07:57:57 -0500 (Thu, 20 Feb 2025) EndedAt: 2025-02-20 07:58:29 -0500 (Thu, 20 Feb 2025) EllapsedTime: 31.9 seconds RetCode: 0 Status: OK PackageFile: HiLDA_1.21.0.zip PackageFileSize: 2.853 MiB