Package: HiLDA Version: 1.21.0 Command: /home/biocbuild/bbs-3.21-bioc/R/bin/R CMD INSTALL HiLDA StartedAt: 2025-02-19 15:58:22 -0500 (Wed, 19 Feb 2025) EndedAt: 2025-02-19 15:58:39 -0500 (Wed, 19 Feb 2025) EllapsedTime: 16.3 seconds RetCode: 0 Status: OK