Package: HiLDA Version: 1.21.0 Command: /home/biocbuild/bbs-3.21-bioc/R/bin/R CMD check --install=check:HiLDA.install-out.txt --library=/home/biocbuild/bbs-3.21-bioc/R/site-library --timings HiLDA_1.21.0.tar.gz StartedAt: 2025-02-19 23:06:29 -0500 (Wed, 19 Feb 2025) EndedAt: 2025-02-19 23:13:09 -0500 (Wed, 19 Feb 2025) EllapsedTime: 400.7 seconds RetCode: 0 Status: OK CheckDir: HiLDA.Rcheck Warnings: 0