Package: HiLDA Version: 1.21.0 Command: /home/biocbuild/bbs-3.21-bioc/R/bin/R CMD build --keep-empty-dirs --no-resave-data HiLDA StartedAt: 2025-02-19 17:39:31 -0500 (Wed, 19 Feb 2025) EndedAt: 2025-02-19 17:42:46 -0500 (Wed, 19 Feb 2025) EllapsedTime: 195.3 seconds RetCode: 0 Status: OK PackageFile: HiLDA_1.21.0.tar.gz PackageFileSize: 2.453 MiB