Package: HiLDA Version: 1.21.0 Command: /Library/Frameworks/R.framework/Resources/bin/R CMD check --install=check:HiLDA.install-out.txt --library=/Library/Frameworks/R.framework/Resources/library --no-vignettes --timings HiLDA_1.21.0.tar.gz StartedAt: 2025-02-20 19:42:02 -0500 (Thu, 20 Feb 2025) EndedAt: 2025-02-20 19:43:09 -0500 (Thu, 20 Feb 2025) EllapsedTime: 66.8 seconds RetCode: 0 Status: OK CheckDir: HiLDA.Rcheck Warnings: 0