Package: HiContacts Version: 1.9.0 Command: E:\biocbuild\bbs-3.21-bioc\R\bin\R.exe CMD INSTALL HiContacts StartedAt: 2025-02-19 15:50:40 -0500 (Wed, 19 Feb 2025) EndedAt: 2025-02-19 15:51:24 -0500 (Wed, 19 Feb 2025) EllapsedTime: 44.1 seconds RetCode: 0 Status: OK