Package: HiCcompare Version: 1.29.0 Command: E:\biocbuild\bbs-3.21-bioc\R\bin\R.exe CMD INSTALL HiCcompare StartedAt: 2025-02-20 16:07:29 -0500 (Thu, 20 Feb 2025) EndedAt: 2025-02-20 16:08:26 -0500 (Thu, 20 Feb 2025) EllapsedTime: 56.7 seconds RetCode: 0 Status: OK