Package: HiCcompare Version: 1.29.0 Command: chmod a+r HiCcompare -R && E:\biocbuild\bbs-3.21-bioc\R\bin\R.exe CMD build --keep-empty-dirs --no-resave-data HiCcompare StartedAt: 2025-02-20 19:16:56 -0500 (Thu, 20 Feb 2025) EndedAt: 2025-02-20 19:18:17 -0500 (Thu, 20 Feb 2025) EllapsedTime: 81.0 seconds RetCode: 0 Status: OK PackageFile: HiCcompare_1.29.0.tar.gz PackageFileSize: 3.318 MiB