Package: HiCcompare Version: 1.29.0 Command: /home/biocbuild/bbs-3.21-bioc/R/bin/R CMD check --install=check:HiCcompare.install-out.txt --library=/home/biocbuild/bbs-3.21-bioc/R/site-library --timings HiCcompare_1.29.0.tar.gz StartedAt: 2025-02-20 22:41:15 -0500 (Thu, 20 Feb 2025) EndedAt: 2025-02-20 22:45:03 -0500 (Thu, 20 Feb 2025) EllapsedTime: 228.3 seconds RetCode: 0 Status: OK CheckDir: HiCcompare.Rcheck Warnings: 0