Package: HiCcompare Version: 1.29.0 Command: /Library/Frameworks/R.framework/Resources/bin/R CMD INSTALL HiCcompare StartedAt: 2025-02-20 15:13:33 -0500 (Thu, 20 Feb 2025) EndedAt: 2025-02-20 15:14:18 -0500 (Thu, 20 Feb 2025) EllapsedTime: 45.3 seconds RetCode: 0 Status: OK