Package: HiCcompare Version: 1.29.0 Command: /Library/Frameworks/R.framework/Resources/bin/R CMD build --keep-empty-dirs --no-resave-data HiCcompare StartedAt: 2025-02-20 16:58:55 -0500 (Thu, 20 Feb 2025) EndedAt: 2025-02-20 17:00:03 -0500 (Thu, 20 Feb 2025) EllapsedTime: 67.6 seconds RetCode: 0 Status: OK PackageFile: HiCcompare_1.29.0.tar.gz PackageFileSize: 3.678 MiB