Package: HiCcompare Version: 1.29.0 Command: /Library/Frameworks/R.framework/Resources/bin/R CMD INSTALL HiCcompare StartedAt: 2025-02-20 15:07:31 -0500 (Thu, 20 Feb 2025) EndedAt: 2025-02-20 15:07:47 -0500 (Thu, 20 Feb 2025) EllapsedTime: 15.4 seconds RetCode: 0 Status: OK