Package: HiCExperiment Version: 1.7.0 Command: E:\biocbuild\bbs-3.21-bioc\R\bin\R.exe CMD INSTALL HiCExperiment StartedAt: 2025-02-20 16:10:17 -0500 (Thu, 20 Feb 2025) EndedAt: 2025-02-20 16:11:48 -0500 (Thu, 20 Feb 2025) EllapsedTime: 90.8 seconds RetCode: 0 Status: OK