Package: HiCExperiment Version: 1.7.0 Command: /Library/Frameworks/R.framework/Resources/bin/R CMD check --install=check:HiCExperiment.install-out.txt --library=/Library/Frameworks/R.framework/Resources/library --no-vignettes --timings HiCExperiment_1.7.0.tar.gz StartedAt: 2025-02-20 19:41:00 -0500 (Thu, 20 Feb 2025) EndedAt: 2025-02-20 19:45:12 -0500 (Thu, 20 Feb 2025) EllapsedTime: 252.1 seconds RetCode: 0 Status: OK CheckDir: HiCExperiment.Rcheck Warnings: 0