Package: HiCExperiment Version: 1.7.0 Command: /Library/Frameworks/R.framework/Resources/bin/R CMD build --keep-empty-dirs --no-resave-data HiCExperiment StartedAt: 2025-02-20 16:37:25 -0500 (Thu, 20 Feb 2025) EndedAt: 2025-02-20 16:38:41 -0500 (Thu, 20 Feb 2025) EllapsedTime: 75.7 seconds RetCode: 0 Status: OK PackageFile: HiCExperiment_1.7.0.tar.gz PackageFileSize: 1011 KiB