Package: HiCDOC Version: 1.9.2 Command: chmod a+r HiCDOC -R && E:\biocbuild\bbs-3.21-bioc\R\bin\R.exe CMD build --keep-empty-dirs --no-resave-data HiCDOC StartedAt: 2025-02-19 19:14:51 -0500 (Wed, 19 Feb 2025) EndedAt: 2025-02-19 19:15:26 -0500 (Wed, 19 Feb 2025) EllapsedTime: 34.9 seconds RetCode: 1 Status: ERROR PackageFile: None PackageFileSize: NA