Package: HiCDOC Version: 1.9.2 Command: /home/biocbuild/bbs-3.21-bioc/R/bin/R CMD build --keep-empty-dirs --no-resave-data HiCDOC StartedAt: 2025-02-19 17:37:24 -0500 (Wed, 19 Feb 2025) EndedAt: 2025-02-19 17:40:04 -0500 (Wed, 19 Feb 2025) EllapsedTime: 160.2 seconds RetCode: 0 Status: OK PackageFile: HiCDOC_1.9.2.tar.gz PackageFileSize: 3.433 MiB