Package: HiCDOC Version: 1.9.2 Command: /Library/Frameworks/R.framework/Resources/bin/R CMD check --install=check:HiCDOC.install-out.txt --library=/Library/Frameworks/R.framework/Resources/library --no-vignettes --timings HiCDOC_1.9.2.tar.gz StartedAt: 2025-02-20 20:58:14 -0500 (Thu, 20 Feb 2025) EndedAt: 2025-02-20 21:05:23 -0500 (Thu, 20 Feb 2025) EllapsedTime: 428.8 seconds RetCode: 0 Status: OK CheckDir: HiCDOC.Rcheck Warnings: 0