Package: HiCDCPlus Version: 1.15.0 Command: /home/biocbuild/bbs-3.21-bioc/R/bin/R CMD INSTALL HiCDCPlus StartedAt: 2025-02-19 15:49:32 -0500 (Wed, 19 Feb 2025) EndedAt: 2025-02-19 15:50:14 -0500 (Wed, 19 Feb 2025) EllapsedTime: 42.0 seconds RetCode: 0 Status: OK