Package: HiCDCPlus Version: 1.15.0 Command: /home/biocbuild/R/R/bin/R CMD check --install=check:HiCDCPlus.install-out.txt --library=/home/biocbuild/R/R/site-library --no-vignettes --timings HiCDCPlus_1.15.0.tar.gz StartedAt: 2025-01-28 11:27:33 -0000 (Tue, 28 Jan 2025) EndedAt: 2025-01-28 11:35:13 -0000 (Tue, 28 Jan 2025) EllapsedTime: 459.4 seconds RetCode: 0 Status: OK CheckDir: HiCDCPlus.Rcheck Warnings: 0