Package: HiCDCPlus Version: 1.15.0 Command: /Library/Frameworks/R.framework/Resources/bin/R CMD INSTALL HiCDCPlus StartedAt: 2025-02-20 15:17:41 -0500 (Thu, 20 Feb 2025) EndedAt: 2025-02-20 15:17:58 -0500 (Thu, 20 Feb 2025) EllapsedTime: 16.6 seconds RetCode: 0 Status: OK