Package: HiCDCPlus Version: 1.15.0 Command: /Library/Frameworks/R.framework/Resources/bin/R CMD check --install=check:HiCDCPlus.install-out.txt --library=/Library/Frameworks/R.framework/Resources/library --no-vignettes --timings HiCDCPlus_1.15.0.tar.gz StartedAt: 2025-02-20 19:40:53 -0500 (Thu, 20 Feb 2025) EndedAt: 2025-02-20 19:43:07 -0500 (Thu, 20 Feb 2025) EllapsedTime: 133.6 seconds RetCode: 0 Status: OK CheckDir: HiCDCPlus.Rcheck Warnings: 0