Package: HiCBricks Version: 1.25.0 Command: rm -rf HiCBricks.buildbin-libdir && mkdir HiCBricks.buildbin-libdir && E:\biocbuild\bbs-3.21-bioc\R\bin\R.exe CMD INSTALL --build --library=HiCBricks.buildbin-libdir HiCBricks_1.25.0.tar.gz StartedAt: 2025-02-21 08:16:57 -0500 (Fri, 21 Feb 2025) EndedAt: 2025-02-21 08:18:53 -0500 (Fri, 21 Feb 2025) EllapsedTime: 115.9 seconds RetCode: 0 Status: OK PackageFile: HiCBricks_1.25.0.zip PackageFileSize: 4.897 MiB