Package: HiCBricks Version: 1.25.0 Command: /home/biocbuild/bbs-3.21-bioc/R/bin/R CMD INSTALL HiCBricks StartedAt: 2025-02-20 15:25:04 -0500 (Thu, 20 Feb 2025) EndedAt: 2025-02-20 15:25:20 -0500 (Thu, 20 Feb 2025) EllapsedTime: 15.5 seconds RetCode: 0 Status: OK